BEGIN:VCALENDAR
VERSION:2.0
PRODID:-//Selbstfürsorge mit ätherischen Ölen//EN
CALSCALE:GREGORIAN
X-WR-TIMEZONE:Europe/Berlin
BEGIN:VEVENT
UID:0-721-@muetze-ingelheim.de
SUMMARY:Selbstfürsorge mit ätherischen Ölen
DTSTART;TZID=Europe/Berlin:20250312T170000Z
DTEND;TZID=Europe/Berlin:20250312T190000Z
LOCATION:Bahnhofstraße 119\, 55218 Ingelheim
DESCRIPTION:
END:VEVENT
BEGIN:VEVENT
UID:1-721-@muetze-ingelheim.de
SUMMARY:Selbstfürsorge mit ätherischen Ölen
DTSTART;TZID=Europe/Berlin:20260502T170000Z
DTEND;TZID=Europe/Berlin:20260502T190000Z
LOCATION:Bahnhofstraße 119\, 55218 Ingelheim
DESCRIPTION:
END:VEVENT
BEGIN:VEVENT
UID:2-721-@muetze-ingelheim.de
SUMMARY:Selbstfürsorge mit ätherischen Ölen
DTSTART;TZID=Europe/Berlin:20260616T170000Z
DTEND;TZID=Europe/Berlin:20260616T190000Z
LOCATION:Bahnhofstraße 119\, 55218 Ingelheim
DESCRIPTION:
END:VEVENT
END:VCALENDAR